{
 "currentVersion": 10.91,
 "serviceDescription": "MG_SL4_Ajman_Khalifasat_image",
 "name": "MG_SL4_Ajman_Khalifasat_image",
 "description": "",
 "extent": {
  "xmin": 341345.531,
  "ymin": 2805222.546,
  "xmax": 362168.43100000004,
  "ymax": 2815986.446,
  "spatialReference": {
   "wkid": 32640,
   "latestWkid": 32640
  }
 },
 "initialExtent": {
  "xmin": 341345.531,
  "ymin": 2805222.546,
  "xmax": 362168.43100000004,
  "ymax": 2815986.446,
  "spatialReference": {
   "wkid": 32640,
   "latestWkid": 32640
  }
 },
 "fullExtent": {
  "xmin": 341345.531,
  "ymin": 2805222.546,
  "xmax": 362168.43100000004,
  "ymax": 2815986.446,
  "spatialReference": {
   "wkid": 32640,
   "latestWkid": 32640
  }
 },
 "hasMultidimensions": false,
 "pixelSizeX": 0.7000000000000007,
 "pixelSizeY": 0.699999999999994,
 "datasetFormat": "TIFF",
 "uncompressedSize": 1372258857,
 "blockWidth": 29747,
 "blockHeight": 1,
 "compressionType": "LZW",
 "bandNames": [
  "Band_1",
  "Band_2",
  "Band_3"
 ],
 "allowCopy": true,
 "allowAnalysis": true,
 "bandCount": 3,
 "pixelType": "U8",
 "minPixelSize": 0,
 "maxPixelSize": 0,
 "copyrightText": "",
 "serviceDataType": "esriImageServiceDataTypeRGB",
 "serviceSourceType": "esriImageServiceSourceTypeDataset",
 "minValues": [
  0,
  0,
  0
 ],
 "maxValues": [
  255,
  255,
  255
 ],
 "meanValues": [
  122.67980021418,
  103.26300980546,
  91.545492621348
 ],
 "stdvValues": [
  55.151273861355,
  49.16924314663,
  47.971837891753
 ],
 "objectIdField": "",
 "fields": [],
 "capabilities": "Image,Metadata,Mensuration",
 "defaultMosaicMethod": "Center",
 "allowedMosaicMethods": "",
 "sortField": "",
 "sortValue": null,
 "sortAscending": true,
 "mosaicOperator": "First",
 "defaultCompressionQuality": 75,
 "defaultResamplingMethod": "Bilinear",
 "maxImageHeight": 4100,
 "maxImageWidth": 15000,
 "allowRasterFunction": true,
 "rasterFunctionInfos": [
  {
   "name": "None",
   "description": "",
   "help": ""
  }
 ],
 "rasterTypeInfos": [
  {
   "name": "Raster Dataset",
   "description": "Supports all ArcGIS Raster Datasets",
   "help": ""
  }
 ],
 "mensurationCapabilities": "Basic",
 "hasHistograms": true,
 "hasColormap": false,
 "hasRasterAttributeTable": false,
 "minScale": 0,
 "maxScale": 0,
 "exportTilesAllowed": false,
 "supportsStatistics": false,
 "supportsAdvancedQueries": false,
 "editFieldsInfo": null,
 "ownershipBasedAccessControlForRasters": null,
 "allowComputeTiePoints": false,
 "useStandardizedQueries": true,
 "advancedQueryCapabilities": {
  "useStandardizedQueries": true,
  "supportsStatistics": false,
  "supportsOrderBy": false,
  "supportsDistinct": false,
  "supportsPagination": false
 },
 "spatialReference": {
  "wkid": 32640,
  "latestWkid": 32640
 }
}
