{
 "currentVersion": 10.91,
 "serviceDescription": "MG_SL4_Fujairah_Khalifasat_image",
 "name": "MG_SL4_Fujairah_Khalifasat_image",
 "description": "",
 "extent": {
  "xmin": 415974.63100000005,
  "ymin": 2754914.246,
  "xmax": 441355.231,
  "ymax": 2801233.246,
  "spatialReference": {
   "wkid": 32640,
   "latestWkid": 32640
  }
 },
 "initialExtent": {
  "xmin": 415974.63100000005,
  "ymin": 2754914.246,
  "xmax": 441355.231,
  "ymax": 2801233.246,
  "spatialReference": {
   "wkid": 32640,
   "latestWkid": 32640
  }
 },
 "fullExtent": {
  "xmin": 415974.63100000005,
  "ymin": 2754914.246,
  "xmax": 441355.231,
  "ymax": 2801233.246,
  "spatialReference": {
   "wkid": 32640,
   "latestWkid": 32640
  }
 },
 "hasMultidimensions": false,
 "pixelSizeX": 0.6999999999999994,
 "pixelSizeY": 0.7,
 "datasetFormat": "TIFF",
 "uncompressedSize": 7197575580,
 "blockWidth": 36258,
 "blockHeight": 1,
 "compressionType": "None",
 "bandNames": [
  "Band_1",
  "Band_2",
  "Band_3"
 ],
 "allowCopy": true,
 "allowAnalysis": true,
 "bandCount": 3,
 "pixelType": "U8",
 "minPixelSize": 0,
 "maxPixelSize": 0,
 "copyrightText": "",
 "serviceDataType": "esriImageServiceDataTypeRGB",
 "serviceSourceType": "esriImageServiceSourceTypeDataset",
 "minValues": [
  0,
  0,
  0
 ],
 "maxValues": [
  253,
  255,
  251
 ],
 "meanValues": [
  53.598365431641,
  60.818469876659,
  67.026150749448
 ],
 "stdvValues": [
  40.25091605094,
  42.794320353182,
  42.040753689453
 ],
 "objectIdField": "",
 "fields": [],
 "capabilities": "Image,Metadata,Mensuration",
 "defaultMosaicMethod": "Center",
 "allowedMosaicMethods": "",
 "sortField": "",
 "sortValue": null,
 "sortAscending": true,
 "mosaicOperator": "First",
 "defaultCompressionQuality": 75,
 "defaultResamplingMethod": "Bilinear",
 "maxImageHeight": 4100,
 "maxImageWidth": 15000,
 "allowRasterFunction": true,
 "rasterFunctionInfos": [
  {
   "name": "None",
   "description": "",
   "help": ""
  }
 ],
 "rasterTypeInfos": [
  {
   "name": "Raster Dataset",
   "description": "Supports all ArcGIS Raster Datasets",
   "help": ""
  }
 ],
 "mensurationCapabilities": "Basic",
 "hasHistograms": true,
 "hasColormap": false,
 "hasRasterAttributeTable": false,
 "minScale": 0,
 "maxScale": 0,
 "exportTilesAllowed": false,
 "supportsStatistics": false,
 "supportsAdvancedQueries": false,
 "editFieldsInfo": null,
 "ownershipBasedAccessControlForRasters": null,
 "allowComputeTiePoints": false,
 "useStandardizedQueries": true,
 "advancedQueryCapabilities": {
  "useStandardizedQueries": true,
  "supportsStatistics": false,
  "supportsOrderBy": false,
  "supportsDistinct": false,
  "supportsPagination": false
 },
 "spatialReference": {
  "wkid": 32640,
  "latestWkid": 32640
 }
}
