View In:
ArcGIS JavaScript
ArcGIS Online Map Viewer
ArcGIS Earth
ArcMap
View Footprint In:
ArcGIS Online Map Viewer
Service Description: Image 30cm
Name: UAE_30cm_image
Description: Image 30cm
Single Fused Map Cache: false
Extent:
XMin: 5713819.476399999
YMin: 2586618.160800035
XMax: 6344884.476399958
YMax: 3108725.860800002
Spatial Reference: 102100
(3857)
LatestVCSWkid(0)
Initial Extent:
XMin: 5713819.476399999
YMin: 2586618.160800035
XMax: 6344884.476399958
YMax: 3108725.860800002
Spatial Reference: 102100
(3857)
LatestVCSWkid(0)
Full Extent:
XMin: 5713819.476399999
YMin: 2586618.160800035
XMax: 6344884.476399958
YMax: 3108725.860800002
Spatial Reference: 102100
(3857)
LatestVCSWkid(0)
Pixel Size X: 0.2999999999999805
Pixel Size Y: 0.29999999999998084
Band Count: 3
Pixel Type: U8
RasterFunction Infos: {"rasterFunctionInfos": [{
"name": "None",
"description": "",
"help": ""
}]}
Mensuration Capabilities: None
Has Histograms: true
Has Colormap: false
Has Multi Dimensions : false
Rendering Rule:
Min Scale: 0
Max Scale: 0
Copyright Text: fgic
Service Data Type: esriImageServiceDataTypeRGB
Min Values: 0, 10, 17
Max Values: 241, 241, 241
Mean Values: 66.83728525411634, 70.4331103414882, 72.03104078066214
Standard Deviation Values: 66.99873011762612, 47.59563754482372, 30.723921256514576
Object ID Field: OBJECTID
Fields:
-
OBJECTID
(
type: esriFieldTypeOID, alias: OBJECTID
)
-
Shape
(
type: esriFieldTypeGeometry, alias: Shape
)
-
Name
(
type: esriFieldTypeString, alias: Name, length: 200
)
-
MinPS
(
type: esriFieldTypeDouble, alias: MinPS
)
-
MaxPS
(
type: esriFieldTypeDouble, alias: MaxPS
)
-
LowPS
(
type: esriFieldTypeDouble, alias: LowPS
)
-
HighPS
(
type: esriFieldTypeDouble, alias: HighPS
)
-
Category
(
type: esriFieldTypeInteger, alias: Category
, Coded Values:
[0: Unknown]
, [1: Primary]
, [2: Overview]
, ...6 more...
)
-
Tag
(
type: esriFieldTypeString, alias: Tag, length: 100
)
-
GroupName
(
type: esriFieldTypeString, alias: GroupName, length: 100
)
-
ProductName
(
type: esriFieldTypeString, alias: ProductName, length: 100
)
-
CenterX
(
type: esriFieldTypeDouble, alias: CenterX
)
-
CenterY
(
type: esriFieldTypeDouble, alias: CenterY
)
-
ZOrder
(
type: esriFieldTypeInteger, alias: ZOrder
)
-
Shape_Length
(
type: esriFieldTypeDouble, alias: Shape_Length
)
-
Shape_Area
(
type: esriFieldTypeDouble, alias: Shape_Area
)
Default Mosaic Method: Northwest
Allowed Mosaic Methods: NorthWest,Center,LockRaster,ByAttribute,Nadir,Viewpoint,Seamline,None
SortField:
SortValue: null
Mosaic Operator: First
Default Compression Quality: 75
Default Resampling Method: Bilinear
Max Record Count: 1000
Max Image Height: 4100
Max Image Width: 15000
Max Download Image Count: 20
Max Mosaic Image Count: 20
Allow Raster Function: true
Allow Copy: null
Allow Analysis: null
Allow Compute TiePoints: false
Supports Statistics: true
Supports Advanced Queries: true
Use StandardizedQueries: true
Raster Type Infos:
Name: Raster Dataset
Description: Supports all ArcGIS Raster Datasets
Help:
Has Raster Attribute Table: false
Edit Fields Info: null
Ownership Based AccessControl For Rasters: null
Child Resources:
Info
Histograms
Key Properties
Legend
Raster Function Infos
Supported Operations:
Export Image
Query
Identify
Compute Histograms
Compute Statistics Histograms
Get Samples
Compute Class Statistics
Query Boundary
Compute Pixel Location
Compute Angles
Validate
Project