View In:
ArcGIS JavaScript
ArcGIS Online Map Viewer
ArcGIS Earth
ArcMap
View Footprint In:
ArcGIS Online Map Viewer
Service Description: MG_SL4_Ajman_Khalifasat_image
Name: MG_SL4_Ajman_Khalifasat_image
Description:
Single Fused Map Cache: false
Extent:
XMin: 341345.531
YMin: 2805222.546
XMax: 362168.43100000004
YMax: 2815986.446
Spatial Reference: 32640
(32640)
LatestVCSWkid(0)
Initial Extent:
XMin: 341345.531
YMin: 2805222.546
XMax: 362168.43100000004
YMax: 2815986.446
Spatial Reference: 32640
(32640)
LatestVCSWkid(0)
Full Extent:
XMin: 341345.531
YMin: 2805222.546
XMax: 362168.43100000004
YMax: 2815986.446
Spatial Reference: 32640
(32640)
LatestVCSWkid(0)
Pixel Size X: 0.7000000000000007
Pixel Size Y: 0.699999999999994
Band Count: 3
Pixel Type: U8
RasterFunction Infos: {"rasterFunctionInfos": [{
"name": "None",
"description": "",
"help": ""
}]}
Mensuration Capabilities: Basic
Has Histograms: true
Has Colormap: false
Has Multi Dimensions : false
Rendering Rule:
Min Scale: 0
Max Scale: 0
Copyright Text:
Service Data Type: esriImageServiceDataTypeRGB
Min Values: 0, 0, 0
Max Values: 255, 255, 255
Mean Values: 122.67980021418, 103.26300980546, 91.545492621348
Standard Deviation Values: 55.151273861355, 49.16924314663, 47.971837891753
Object ID Field:
Fields:
None
Default Mosaic Method: Center
Allowed Mosaic Methods:
SortField:
SortValue: null
Mosaic Operator: First
Default Compression Quality: 75
Default Resampling Method: Bilinear
Max Record Count: null
Max Image Height: 4100
Max Image Width: 15000
Max Download Image Count: null
Max Mosaic Image Count: null
Allow Raster Function: true
Allow Copy: true
Allow Analysis: true
Allow Compute TiePoints: false
Supports Statistics: false
Supports Advanced Queries: false
Use StandardizedQueries: true
Raster Type Infos:
Name: Raster Dataset
Description: Supports all ArcGIS Raster Datasets
Help:
Has Raster Attribute Table: false
Edit Fields Info: null
Ownership Based AccessControl For Rasters: null
Child Resources:
Info
Histograms
Statistics
Key Properties
Legend
Raster Function Infos
Supported Operations:
Export Image
Identify
Measure
Compute Histograms
Compute Statistics Histograms
Get Samples
Compute Class Statistics
Query Boundary
Compute Pixel Location
Compute Angles
Validate
Project