View In:
ArcGIS JavaScript
ArcGIS Online Map Viewer
ArcGIS Earth
ArcMap
View Footprint In:
ArcGIS Online Map Viewer
Service Description: MG_SL4_Fujairah_Khalifasat_image
Name: MG_SL4_Fujairah_Khalifasat_image
Description:
Single Fused Map Cache: false
Extent:
XMin: 415974.63100000005
YMin: 2754914.246
XMax: 441355.231
YMax: 2801233.246
Spatial Reference: 32640
(32640)
LatestVCSWkid(0)
Initial Extent:
XMin: 415974.63100000005
YMin: 2754914.246
XMax: 441355.231
YMax: 2801233.246
Spatial Reference: 32640
(32640)
LatestVCSWkid(0)
Full Extent:
XMin: 415974.63100000005
YMin: 2754914.246
XMax: 441355.231
YMax: 2801233.246
Spatial Reference: 32640
(32640)
LatestVCSWkid(0)
Pixel Size X: 0.6999999999999994
Pixel Size Y: 0.7
Band Count: 3
Pixel Type: U8
RasterFunction Infos: {"rasterFunctionInfos": [{
"name": "None",
"description": "",
"help": ""
}]}
Mensuration Capabilities: Basic
Has Histograms: true
Has Colormap: false
Has Multi Dimensions : false
Rendering Rule:
Min Scale: 0
Max Scale: 0
Copyright Text:
Service Data Type: esriImageServiceDataTypeRGB
Min Values: 0, 0, 0
Max Values: 253, 255, 251
Mean Values: 53.598365431641, 60.818469876659, 67.026150749448
Standard Deviation Values: 40.25091605094, 42.794320353182, 42.040753689453
Object ID Field:
Fields:
None
Default Mosaic Method: Center
Allowed Mosaic Methods:
SortField:
SortValue: null
Mosaic Operator: First
Default Compression Quality: 75
Default Resampling Method: Bilinear
Max Record Count: null
Max Image Height: 4100
Max Image Width: 15000
Max Download Image Count: null
Max Mosaic Image Count: null
Allow Raster Function: true
Allow Copy: true
Allow Analysis: true
Allow Compute TiePoints: false
Supports Statistics: false
Supports Advanced Queries: false
Use StandardizedQueries: true
Raster Type Infos:
Name: Raster Dataset
Description: Supports all ArcGIS Raster Datasets
Help:
Has Raster Attribute Table: false
Edit Fields Info: null
Ownership Based AccessControl For Rasters: null
Child Resources:
Info
Histograms
Statistics
Key Properties
Legend
Raster Function Infos
Supported Operations:
Export Image
Identify
Measure
Compute Histograms
Compute Statistics Histograms
Get Samples
Compute Class Statistics
Query Boundary
Compute Pixel Location
Compute Angles
Validate
Project